BEGIN:VCALENDAR
VERSION:2.0
PRODID:-//Squarespace Inc/Squarespace 6//v6//EN
BEGIN:VEVENT
UID:5d726af1191ada0001a5081c@squarespace.com
DTSTAMP:20190906T190942Z
DTSTART:20190915T000000Z
DTEND:20190915T020000Z
SUMMARY:An Evening with Doug and Bryan
GEO:42.803562;-86.15433
LOCATION:214 Bay Circle Ct\, Holland\, MI 49424\, USA
END:VEVENT
END:VCALENDAR
